BEGIN:VCALENDAR
VERSION:2.0
PRODID:-//Coastal Mendocino Association of REALTORS® - ECPv6.15.13//NONSGML v1.0//EN
CALSCALE:GREGORIAN
METHOD:PUBLISH
X-WR-CALNAME:Coastal Mendocino Association of REALTORS®
X-ORIGINAL-URL:https://www.cmaor.org
X-WR-CALDESC:Events for Coastal Mendocino Association of REALTORS®
REFRESH-INTERVAL;VALUE=DURATION:PT1H
X-Robots-Tag:noindex
X-PUBLISHED-TTL:PT1H
BEGIN:VTIMEZONE
TZID:America/Los_Angeles
BEGIN:DAYLIGHT
TZOFFSETFROM:-0800
TZOFFSETTO:-0700
TZNAME:PDT
DTSTART:20160313T100000
END:DAYLIGHT
BEGIN:STANDARD
TZOFFSETFROM:-0700
TZOFFSETTO:-0800
TZNAME:PST
DTSTART:20161106T090000
END:STANDARD
BEGIN:DAYLIGHT
TZOFFSETFROM:-0800
TZOFFSETTO:-0700
TZNAME:PDT
DTSTART:20170312T100000
END:DAYLIGHT
BEGIN:STANDARD
TZOFFSETFROM:-0700
TZOFFSETTO:-0800
TZNAME:PST
DTSTART:20171105T090000
END:STANDARD
BEGIN:DAYLIGHT
TZOFFSETFROM:-0800
TZOFFSETTO:-0700
TZNAME:PDT
DTSTART:20180311T100000
END:DAYLIGHT
BEGIN:STANDARD
TZOFFSETFROM:-0700
TZOFFSETTO:-0800
TZNAME:PST
DTSTART:20181104T090000
END:STANDARD
END:VTIMEZONE
BEGIN:VEVENT
DTSTART;VALUE=DATE:20171103
DTEND;VALUE=DATE:20171104
DTSTAMP:20260424T043322
CREATED:20170922T212348Z
LAST-MODIFIED:20170922T212550Z
UID:1711-1509667200-1509753599@www.cmaor.org
SUMMARY:CMAR Office Closed
DESCRIPTION:Staff Vacation Day
URL:https://www.cmaor.org/event/cmar-office-closed-2/
CATEGORIES:CMAR Office Closed
END:VEVENT
BEGIN:VEVENT
DTSTART;TZID=America/Los_Angeles:20171109T083000
DTEND;TZID=America/Los_Angeles:20171109T100000
DTSTAMP:20260424T043322
CREATED:20170922T212733Z
LAST-MODIFIED:20170922T212733Z
UID:1713-1510216200-1510221600@www.cmaor.org
SUMMARY:MLS Committee Meeting
DESCRIPTION:
URL:https://www.cmaor.org/event/mls-committee-meeting-3/
LOCATION:CMAR Office\, 32670 Highway 20\, Unit 6\, Fort Bragg\, CA\, 95437\, United States
CATEGORIES:CMAR Committee Meeting
ORGANIZER;CN="CMAR":MAILTO:cmar@mcn.org
END:VEVENT
BEGIN:VEVENT
DTSTART;TZID=America/Los_Angeles:20171110T173000
DTEND;TZID=America/Los_Angeles:20171110T210000
DTSTAMP:20260424T043322
CREATED:20170922T213416Z
LAST-MODIFIED:20170927T182014Z
UID:1721-1510335000-1510347600@www.cmaor.org
SUMMARY:CMAR Officer Installation
DESCRIPTION:Installation of 2018 President and Board of Directors
URL:https://www.cmaor.org/event/cmar-officer-installation/
LOCATION:St. Anthony’s Catholic Church Parish Hall\, 10700 Lansing St\, Mendocino\, CA\, 95460
CATEGORIES:CMAR Committee Meeting
ORGANIZER;CN="CMAR":MAILTO:cmar@mcn.org
END:VEVENT
BEGIN:VEVENT
DTSTART;TZID=America/Los_Angeles:20171116T083000
DTEND;TZID=America/Los_Angeles:20171116T100000
DTSTAMP:20260424T043322
CREATED:20170922T212843Z
LAST-MODIFIED:20170922T212843Z
UID:1715-1510821000-1510826400@www.cmaor.org
SUMMARY:Board of Director's Meeting
DESCRIPTION:Leadership Orientation
URL:https://www.cmaor.org/event/board-of-directors-meeting-3/
LOCATION:CMAR Office\, 32670 Highway 20\, Unit 6\, Fort Bragg\, CA\, 95437\, United States
CATEGORIES:CMAR Committee Meeting
ORGANIZER;CN="CMAR":MAILTO:cmar@mcn.org
END:VEVENT
BEGIN:VEVENT
DTSTART;VALUE=DATE:20171123
DTEND;VALUE=DATE:20171124
DTSTAMP:20260424T043322
CREATED:20170922T212933Z
LAST-MODIFIED:20170922T212933Z
UID:1717-1511395200-1511481599@www.cmaor.org
SUMMARY:CMAR Office Closed
DESCRIPTION:Thanksgiving Holiday
URL:https://www.cmaor.org/event/cmar-office-closed-3/
CATEGORIES:CMAR Office Closed,National Holiday
END:VEVENT
BEGIN:VEVENT
DTSTART;VALUE=DATE:20171124
DTEND;VALUE=DATE:20171125
DTSTAMP:20260424T043322
CREATED:20170922T213022Z
LAST-MODIFIED:20170922T213022Z
UID:1719-1511481600-1511567999@www.cmaor.org
SUMMARY:CMAR Office Closed
DESCRIPTION:Day After Thanksgiving – CMAR Holiday
URL:https://www.cmaor.org/event/cmar-office-closed-4/
CATEGORIES:CMAR Office Closed
END:VEVENT
END:VCALENDAR