BEGIN:VCALENDAR
VERSION:2.0
PRODID:-//Coastal Mendocino Association of REALTORS® - ECPv6.15.13//NONSGML v1.0//EN
CALSCALE:GREGORIAN
METHOD:PUBLISH
X-ORIGINAL-URL:https://www.cmaor.org
X-WR-CALDESC:Events for Coastal Mendocino Association of REALTORS®
REFRESH-INTERVAL;VALUE=DURATION:PT1H
X-Robots-Tag:noindex
X-PUBLISHED-TTL:PT1H
BEGIN:VTIMEZONE
TZID:America/Los_Angeles
BEGIN:DAYLIGHT
TZOFFSETFROM:-0800
TZOFFSETTO:-0700
TZNAME:PDT
DTSTART:20170312T100000
END:DAYLIGHT
BEGIN:STANDARD
TZOFFSETFROM:-0700
TZOFFSETTO:-0800
TZNAME:PST
DTSTART:20171105T090000
END:STANDARD
BEGIN:DAYLIGHT
TZOFFSETFROM:-0800
TZOFFSETTO:-0700
TZNAME:PDT
DTSTART:20180311T100000
END:DAYLIGHT
BEGIN:STANDARD
TZOFFSETFROM:-0700
TZOFFSETTO:-0800
TZNAME:PST
DTSTART:20181104T090000
END:STANDARD
BEGIN:DAYLIGHT
TZOFFSETFROM:-0800
TZOFFSETTO:-0700
TZNAME:PDT
DTSTART:20190310T100000
END:DAYLIGHT
BEGIN:STANDARD
TZOFFSETFROM:-0700
TZOFFSETTO:-0800
TZNAME:PST
DTSTART:20191103T090000
END:STANDARD
END:VTIMEZONE
BEGIN:VEVENT
DTSTART;VALUE=DATE:20180101
DTEND;VALUE=DATE:20180102
DTSTAMP:20260423T035422
CREATED:20170927T175215Z
LAST-MODIFIED:20170927T175215Z
UID:1740-1514764800-1514851199@www.cmaor.org
SUMMARY:CMAR Office Closed
DESCRIPTION:New’s Year Day
URL:https://www.cmaor.org/event/cmar-office-closed-7/
CATEGORIES:CMAR Office Closed,National Holiday
END:VEVENT
BEGIN:VEVENT
DTSTART;TZID=America/Los_Angeles:20180111T083000
DTEND;TZID=America/Los_Angeles:20180111T100000
DTSTAMP:20260423T035422
CREATED:20170927T175406Z
LAST-MODIFIED:20170927T175406Z
UID:1742-1515659400-1515664800@www.cmaor.org
SUMMARY:MLS Committee Meeting
DESCRIPTION:
URL:https://www.cmaor.org/event/mls-committee-meeting-5/
LOCATION:CMAR Office\, 32670 Highway 20\, Unit 6\, Fort Bragg\, CA\, 95437\, United States
CATEGORIES:CMAR Committee Meeting
END:VEVENT
BEGIN:VEVENT
DTSTART;TZID=America/Los_Angeles:20180115T080000
DTEND;TZID=America/Los_Angeles:20180119T170000
DTSTAMP:20260423T035422
CREATED:20170927T181627Z
LAST-MODIFIED:20171024T184919Z
UID:1744-1516003200-1516381200@www.cmaor.org
SUMMARY:CMAR Office Closed
DESCRIPTION:C.A.R. Winter Business Meeting
URL:https://www.cmaor.org/event/cmar-office-closed-8/
CATEGORIES:CMAR Office Closed
END:VEVENT
BEGIN:VEVENT
DTSTART;TZID=America/Los_Angeles:20180115T080000
DTEND;TZID=America/Los_Angeles:20180119T170000
DTSTAMP:20260423T035422
CREATED:20170927T211016Z
LAST-MODIFIED:20170927T211016Z
UID:1751-1516003200-1516381200@www.cmaor.org
SUMMARY:C.A.R. Winter Business Meeting
DESCRIPTION:
URL:https://www.cmaor.org/event/c-a-r-winter-business-meeting/
LOCATION:Monterey Conference Center\, 1 Portola Plaza\, Monterey\, CA\, 93940
CATEGORIES:C.A.R.
END:VEVENT
BEGIN:VEVENT
DTSTART;VALUE=DATE:20180123
DTEND;VALUE=DATE:20180124
DTSTAMP:20260423T035422
CREATED:20171024T184649Z
LAST-MODIFIED:20171024T184649Z
UID:1960-1516665600-1516751999@www.cmaor.org
SUMMARY:CMAR Office Closed
DESCRIPTION:Attending Pro Standards training in Lake County
URL:https://www.cmaor.org/event/cmar-office-closed/
END:VEVENT
BEGIN:VEVENT
DTSTART;TZID=America/Los_Angeles:20180123T090000
DTEND;TZID=America/Los_Angeles:20180123T160000
DTSTAMP:20260423T035422
CREATED:20171024T181604Z
LAST-MODIFIED:20180104T183121Z
UID:1958-1516698000-1516723200@www.cmaor.org
SUMMARY:Regional Professional Standards Training
DESCRIPTION:This Regional Professional Standards training is being hosted by Lake County Association of REALTORS. The no cost event will occur at Grace Church located at 6716 Live Oak Drive\, Kelseyville\, CA 95451.  A light breakfast and lunch will be provided\, sponsored by Mary Welsh\, Welsh Professional Services\, and Bay Equity Home Loans\, Lori Boatright. \nThe training will be provided by Brian Polinsky\, Staff Attorney for C.A.R.  As an added bonus\, he is designing the course to meet the NAR Code of Ethics biennial requirement.
URL:https://www.cmaor.org/event/regional-professional-standards-training/
LOCATION:Grace Church\, 6716 Live Oak Drive\, Kelseyville\, CA\, 95451\, United States
CATEGORIES:C.A.R.,CMAR Office Closed
ORGANIZER;CN="Lake County Association of REALTORS":MAILTO:scottk@lcaor.com
END:VEVENT
BEGIN:VEVENT
DTSTART;TZID=America/Los_Angeles:20180125T083000
DTEND;TZID=America/Los_Angeles:20180125T103000
DTSTAMP:20260423T035422
CREATED:20170927T211301Z
LAST-MODIFIED:20170927T230208Z
UID:1754-1516869000-1516876200@www.cmaor.org
SUMMARY:Board of Director's Meeting
DESCRIPTION:Postponed 1 week due to the C.A.R. Winter Business Meeting
URL:https://www.cmaor.org/event/board-of-directors-meeting-5/
LOCATION:CMAR Office\, 32670 Highway 20\, Unit 6\, Fort Bragg\, CA\, 95437\, United States
CATEGORIES:CMAR Committee Meeting
ORGANIZER;CN="CMAR":MAILTO:cmar@mcn.org
END:VEVENT
BEGIN:VEVENT
DTSTART;TZID=America/Los_Angeles:20180126T120000
DTEND;TZID=America/Los_Angeles:20180126T130000
DTSTAMP:20260423T035422
CREATED:20170927T211449Z
LAST-MODIFIED:20180104T181603Z
UID:1756-1516968000-1516971600@www.cmaor.org
SUMMARY:General Membership Meeting
DESCRIPTION:Presentation by Bob Edwards\, Chief Executive Officer of Mendocino Coast District Hospital \nMenu Options: \n– Garden Herb encrusted Chicken breast on pesto risotto with baby carrots\n– Prawn Louie Salad\,hard-boiled egg\, asparagus\, Romaine\, cherry tomatoes\, avocado with Thousand Island dressing\n– Stuffed Bell Pepper\,artichoke hearts\, walnuts\, caramelized onions\, shitake mushrooms and fresh herbs with pesto risotto (vegan option)
URL:https://www.cmaor.org/event/general-membership-meeting-3/
LOCATION:Hill House Inn\, 10701 Palette Drive\, Mendocino\, CA\, 95460\, United States
CATEGORIES:General Membership
ORGANIZER;CN="CMAR":MAILTO:cmar@mcn.org
END:VEVENT
BEGIN:VEVENT
DTSTART;TZID=America/Los_Angeles:20180130T083000
DTEND;TZID=America/Los_Angeles:20180130T100000
DTSTAMP:20260423T035422
CREATED:20171006T234836Z
LAST-MODIFIED:20171006T234836Z
UID:1906-1517301000-1517306400@www.cmaor.org
SUMMARY:Strategic Planning and Finance Meeting
DESCRIPTION:
URL:https://www.cmaor.org/event/strategic-planning-and-finance-meeting-2/
LOCATION:CMAR Office\, 32670 Highway 20\, Unit 6\, Fort Bragg\, CA\, 95437\, United States
CATEGORIES:CMAR Committee Meeting
ORGANIZER;CN="CMAR":MAILTO:cmar@mcn.org
END:VEVENT
END:VCALENDAR