BEGIN:VCALENDAR
VERSION:2.0
PRODID:-//Coastal Mendocino Association of REALTORS® - ECPv6.15.13//NONSGML v1.0//EN
CALSCALE:GREGORIAN
METHOD:PUBLISH
X-WR-CALNAME:Coastal Mendocino Association of REALTORS®
X-ORIGINAL-URL:https://www.cmaor.org
X-WR-CALDESC:Events for Coastal Mendocino Association of REALTORS®
REFRESH-INTERVAL;VALUE=DURATION:PT1H
X-Robots-Tag:noindex
X-PUBLISHED-TTL:PT1H
BEGIN:VTIMEZONE
TZID:America/Los_Angeles
BEGIN:DAYLIGHT
TZOFFSETFROM:-0800
TZOFFSETTO:-0700
TZNAME:PDT
DTSTART:20170312T100000
END:DAYLIGHT
BEGIN:STANDARD
TZOFFSETFROM:-0700
TZOFFSETTO:-0800
TZNAME:PST
DTSTART:20171105T090000
END:STANDARD
BEGIN:DAYLIGHT
TZOFFSETFROM:-0800
TZOFFSETTO:-0700
TZNAME:PDT
DTSTART:20180311T100000
END:DAYLIGHT
BEGIN:STANDARD
TZOFFSETFROM:-0700
TZOFFSETTO:-0800
TZNAME:PST
DTSTART:20181104T090000
END:STANDARD
BEGIN:DAYLIGHT
TZOFFSETFROM:-0800
TZOFFSETTO:-0700
TZNAME:PDT
DTSTART:20190310T100000
END:DAYLIGHT
BEGIN:STANDARD
TZOFFSETFROM:-0700
TZOFFSETTO:-0800
TZNAME:PST
DTSTART:20191103T090000
END:STANDARD
END:VTIMEZONE
BEGIN:VEVENT
DTSTART;VALUE=DATE:20180607
DTEND;VALUE=DATE:20180609
DTSTAMP:20260421T063849
CREATED:20170927T221753Z
LAST-MODIFIED:20170927T221754Z
UID:1817-1528329600-1528502399@www.cmaor.org
SUMMARY:CMAR Office Closed
DESCRIPTION:Staff Vacation
URL:https://www.cmaor.org/event/cmar-office-closed-11/
CATEGORIES:CMAR Office Closed
END:VEVENT
BEGIN:VEVENT
DTSTART;TZID=America/Los_Angeles:20180612T083000
DTEND;TZID=America/Los_Angeles:20180612T100000
DTSTAMP:20260421T063849
CREATED:20170927T221841Z
LAST-MODIFIED:20170927T221841Z
UID:1819-1528792200-1528797600@www.cmaor.org
SUMMARY:Broker's Meeting
DESCRIPTION:
URL:https://www.cmaor.org/event/brokers-meeting-3/
LOCATION:CMAR Office\, 32670 Highway 20\, Unit 6\, Fort Bragg\, CA\, 95437\, United States
CATEGORIES:CMAR Committee Meeting
ORGANIZER;CN="CMAR":MAILTO:cmar@mcn.org
END:VEVENT
BEGIN:VEVENT
DTSTART;TZID=America/Los_Angeles:20180614T083000
DTEND;TZID=America/Los_Angeles:20180614T100000
DTSTAMP:20260421T063849
CREATED:20170927T212840Z
LAST-MODIFIED:20170927T212840Z
UID:1784-1528965000-1528970400@www.cmaor.org
SUMMARY:MLS Committee Meeting
DESCRIPTION:
URL:https://www.cmaor.org/event/mls-committee-meeting-10/
LOCATION:CMAR Office\, 32670 Highway 20\, Unit 6\, Fort Bragg\, CA\, 95437\, United States
CATEGORIES:CMAR Committee Meeting
ORGANIZER;CN="CMAR":MAILTO:cmar@mcn.org
END:VEVENT
BEGIN:VEVENT
DTSTART;VALUE=DATE:20180620
DTEND;VALUE=DATE:20180623
DTSTAMP:20260421T063849
CREATED:20170927T223757Z
LAST-MODIFIED:20170927T223757Z
UID:1826-1529452800-1529711999@www.cmaor.org
SUMMARY:CMAR Office Closed
DESCRIPTION:AE/GAD Institute
URL:https://www.cmaor.org/event/cmar-office-closed-12/
CATEGORIES:C.A.R.,CMAR Office Closed
END:VEVENT
BEGIN:VEVENT
DTSTART;VALUE=DATE:20180621
DTEND;VALUE=DATE:20180624
DTSTAMP:20260421T063849
CREATED:20170927T223705Z
LAST-MODIFIED:20170927T223821Z
UID:1823-1529539200-1529798399@www.cmaor.org
SUMMARY:AE/GAD Institute
DESCRIPTION:
URL:https://www.cmaor.org/event/aegad-institute/
LOCATION:Pasea Hotel\, 21080 Pacific Coast Hwy\, Huntington Beach\, CA\, 92648
CATEGORIES:C.A.R.,CMAR Office Closed
END:VEVENT
BEGIN:VEVENT
DTSTART;TZID=America/Los_Angeles:20180628T083000
DTEND;TZID=America/Los_Angeles:20180628T100000
DTSTAMP:20260421T063849
CREATED:20170927T222058Z
LAST-MODIFIED:20170927T222058Z
UID:1821-1530174600-1530180000@www.cmaor.org
SUMMARY:Board of Director's Meeting
DESCRIPTION:Postponed 1 week due to of AE/GAD Institute
URL:https://www.cmaor.org/event/board-of-directors-meeting-10/
LOCATION:CMAR Office\, 32670 Highway 20\, Unit 6\, Fort Bragg\, CA\, 95437\, United States
CATEGORIES:CMAR Committee Meeting
ORGANIZER;CN="CMAR":MAILTO:cmar@mcn.org
END:VEVENT
BEGIN:VEVENT
DTSTART;TZID=America/Los_Angeles:20180628T120000
DTEND;TZID=America/Los_Angeles:20180628T130000
DTSTAMP:20260421T063849
CREATED:20170927T212031Z
LAST-MODIFIED:20180611T232508Z
UID:1766-1530187200-1530190800@www.cmaor.org
SUMMARY:General Membership Meeting
DESCRIPTION:Speaker: City of Fort Bragg Community Development Director Marie Jones
URL:https://www.cmaor.org/event/general-membership-meeting-8/
LOCATION:Hill House Inn\, 10701 Palette Drive\, Mendocino\, CA\, 95460\, United States
CATEGORIES:General Membership
ORGANIZER;CN="CMAR":MAILTO:cmar@mcn.org
END:VEVENT
END:VCALENDAR