BEGIN:VCALENDAR
VERSION:2.0
PRODID:-//Coastal Mendocino Association of REALTORS® - ECPv6.15.13//NONSGML v1.0//EN
CALSCALE:GREGORIAN
METHOD:PUBLISH
X-ORIGINAL-URL:https://www.cmaor.org
X-WR-CALDESC:Events for Coastal Mendocino Association of REALTORS®
REFRESH-INTERVAL;VALUE=DURATION:PT1H
X-Robots-Tag:noindex
X-PUBLISHED-TTL:PT1H
BEGIN:VTIMEZONE
TZID:America/Los_Angeles
BEGIN:DAYLIGHT
TZOFFSETFROM:-0800
TZOFFSETTO:-0700
TZNAME:PDT
DTSTART:20170312T100000
END:DAYLIGHT
BEGIN:STANDARD
TZOFFSETFROM:-0700
TZOFFSETTO:-0800
TZNAME:PST
DTSTART:20171105T090000
END:STANDARD
BEGIN:DAYLIGHT
TZOFFSETFROM:-0800
TZOFFSETTO:-0700
TZNAME:PDT
DTSTART:20180311T100000
END:DAYLIGHT
BEGIN:STANDARD
TZOFFSETFROM:-0700
TZOFFSETTO:-0800
TZNAME:PST
DTSTART:20181104T090000
END:STANDARD
BEGIN:DAYLIGHT
TZOFFSETFROM:-0800
TZOFFSETTO:-0700
TZNAME:PDT
DTSTART:20190310T100000
END:DAYLIGHT
BEGIN:STANDARD
TZOFFSETFROM:-0700
TZOFFSETTO:-0800
TZNAME:PST
DTSTART:20191103T090000
END:STANDARD
END:VTIMEZONE
BEGIN:VEVENT
DTSTART;TZID=America/Los_Angeles:20180807T083000
DTEND;TZID=America/Los_Angeles:20180807T100000
DTSTAMP:20260421T031726
CREATED:20180726T154258Z
LAST-MODIFIED:20180726T154258Z
UID:2294-1533630600-1533636000@www.cmaor.org
SUMMARY:SPF Committee Meeting
DESCRIPTION:
URL:https://www.cmaor.org/event/spf-committee-meeting/
LOCATION:CMAR Office\, 32670 Highway 20\, Unit 6\, Fort Bragg\, CA\, 95437\, United States
CATEGORIES:CMAR Committee Meeting
ORGANIZER;CN="CMAR":MAILTO:cmar@mcn.org
END:VEVENT
BEGIN:VEVENT
DTSTART;TZID=America/Los_Angeles:20180809T083000
DTEND;TZID=America/Los_Angeles:20180809T100000
DTSTAMP:20260421T031726
CREATED:20170927T213115Z
LAST-MODIFIED:20170927T213115Z
UID:1788-1533803400-1533808800@www.cmaor.org
SUMMARY:MLS Committee Meeting
DESCRIPTION:
URL:https://www.cmaor.org/event/mls-committee-meeting-12/
LOCATION:CMAR Office\, 32670 Highway 20\, Unit 6\, Fort Bragg\, CA\, 95437\, United States
CATEGORIES:CMAR Committee Meeting
ORGANIZER;CN="CMAR":MAILTO:cmar@mcn.org
END:VEVENT
BEGIN:VEVENT
DTSTART;TZID=America/Los_Angeles:20180809T173000
DTEND;TZID=America/Los_Angeles:20180809T203000
DTSTAMP:20260421T031726
CREATED:20180726T154836Z
LAST-MODIFIED:20180726T160816Z
UID:2298-1533835800-1533846600@www.cmaor.org
SUMMARY:C.A.R. Region 4 President's Dinner
DESCRIPTION:The CMAR Office will be CLOSED from 2-5 PM.
URL:https://www.cmaor.org/event/c-a-r-region-4-presidents-dinner/
LOCATION:The Depot Hotel Restuarant\, 241 1st Street West\, Sonoma\, CA\, 95476\, United States
CATEGORIES:C.A.R.,CMAR Office Closed
END:VEVENT
BEGIN:VEVENT
DTSTART;TZID=America/Los_Angeles:20180814T090000
DTEND;TZID=America/Los_Angeles:20180814T103000
DTSTAMP:20260421T031726
CREATED:20180726T154413Z
LAST-MODIFIED:20180726T154413Z
UID:2296-1534237200-1534242600@www.cmaor.org
SUMMARY:Installation Committee
DESCRIPTION:
URL:https://www.cmaor.org/event/installation-committee/
LOCATION:CMAR Office\, 32670 Highway 20\, Unit 6\, Fort Bragg\, CA\, 95437\, United States
CATEGORIES:CMAR Committee Meeting
ORGANIZER;CN="CMAR":MAILTO:cmar@mcn.org
END:VEVENT
BEGIN:VEVENT
DTSTART;TZID=America/Los_Angeles:20180816T083000
DTEND;TZID=America/Los_Angeles:20180816T100000
DTSTAMP:20260421T031726
CREATED:20170927T224155Z
LAST-MODIFIED:20170927T224155Z
UID:1832-1534408200-1534413600@www.cmaor.org
SUMMARY:Board of Director's Meeting
DESCRIPTION:
URL:https://www.cmaor.org/event/board-of-directors-meeting-12/
LOCATION:CMAR Office\, 32670 Highway 20\, Unit 6\, Fort Bragg\, CA\, 95437\, United States
CATEGORIES:CMAR Committee Meeting
ORGANIZER;CN="CMAR":MAILTO:cmar@mcn.org
END:VEVENT
BEGIN:VEVENT
DTSTART;VALUE=DATE:20180820
DTEND;VALUE=DATE:20180821
DTSTAMP:20260421T031726
CREATED:20180808T232542Z
LAST-MODIFIED:20180808T232542Z
UID:2318-1534723200-1534809599@www.cmaor.org
SUMMARY:CMAR Office Closed
DESCRIPTION:Staff Vacation Day
URL:https://www.cmaor.org/event/cmar-office-closed-21/
CATEGORIES:CMAR Office Closed
END:VEVENT
BEGIN:VEVENT
DTSTART;TZID=America/Los_Angeles:20180821T083000
DTEND;TZID=America/Los_Angeles:20180821T100000
DTSTAMP:20260421T031726
CREATED:20180808T232713Z
LAST-MODIFIED:20180808T232744Z
UID:2320-1534840200-1534845600@www.cmaor.org
SUMMARY:SPF Committee Meeting
DESCRIPTION:Strategic Planning and Finance Meeting
URL:https://www.cmaor.org/event/spf-committee-meeting-2/
LOCATION:CMAR Office\, 32670 Highway 20\, Unit 6\, Fort Bragg\, CA\, 95437\, United States
CATEGORIES:CMAR Committee Meeting
ORGANIZER;CN="CMAR":MAILTO:cmar@mcn.org
END:VEVENT
BEGIN:VEVENT
DTSTART;TZID=America/Los_Angeles:20180831T120000
DTEND;TZID=America/Los_Angeles:20180831T130000
DTSTAMP:20260421T031726
CREATED:20170927T212159Z
LAST-MODIFIED:20170927T212159Z
UID:1770-1535716800-1535720400@www.cmaor.org
SUMMARY:General Membership Meeting
DESCRIPTION:
URL:https://www.cmaor.org/event/general-membership-meeting-10/
CATEGORIES:General Membership
ORGANIZER;CN="CMAR":MAILTO:cmar@mcn.org
END:VEVENT
END:VCALENDAR