BEGIN:VCALENDAR
VERSION:2.0
PRODID:-//Coastal Mendocino Association of REALTORS® - ECPv6.15.13//NONSGML v1.0//EN
CALSCALE:GREGORIAN
METHOD:PUBLISH
X-WR-CALNAME:Coastal Mendocino Association of REALTORS®
X-ORIGINAL-URL:https://www.cmaor.org
X-WR-CALDESC:Events for Coastal Mendocino Association of REALTORS®
REFRESH-INTERVAL;VALUE=DURATION:PT1H
X-Robots-Tag:noindex
X-PUBLISHED-TTL:PT1H
BEGIN:VTIMEZONE
TZID:America/Los_Angeles
BEGIN:DAYLIGHT
TZOFFSETFROM:-0800
TZOFFSETTO:-0700
TZNAME:PDT
DTSTART:20170312T100000
END:DAYLIGHT
BEGIN:STANDARD
TZOFFSETFROM:-0700
TZOFFSETTO:-0800
TZNAME:PST
DTSTART:20171105T090000
END:STANDARD
BEGIN:DAYLIGHT
TZOFFSETFROM:-0800
TZOFFSETTO:-0700
TZNAME:PDT
DTSTART:20180311T100000
END:DAYLIGHT
BEGIN:STANDARD
TZOFFSETFROM:-0700
TZOFFSETTO:-0800
TZNAME:PST
DTSTART:20181104T090000
END:STANDARD
BEGIN:DAYLIGHT
TZOFFSETFROM:-0800
TZOFFSETTO:-0700
TZNAME:PDT
DTSTART:20190310T100000
END:DAYLIGHT
BEGIN:STANDARD
TZOFFSETFROM:-0700
TZOFFSETTO:-0800
TZNAME:PST
DTSTART:20191103T090000
END:STANDARD
END:VTIMEZONE
BEGIN:VEVENT
DTSTART;VALUE=DATE:20180903
DTEND;VALUE=DATE:20180904
DTSTAMP:20260419T062406
CREATED:20170927T224423Z
LAST-MODIFIED:20170927T230231Z
UID:1834-1535932800-1536019199@www.cmaor.org
SUMMARY:CMAR Office Closed
DESCRIPTION:Labor Day – National Holiday
URL:https://www.cmaor.org/event/cmar-office-closed-14/
CATEGORIES:CMAR Office Closed,National Holiday
END:VEVENT
BEGIN:VEVENT
DTSTART;TZID=America/Los_Angeles:20180906T090000
DTEND;TZID=America/Los_Angeles:20180906T133000
DTSTAMP:20260419T062406
CREATED:20180726T160344Z
LAST-MODIFIED:20180726T160344Z
UID:2306-1536224400-1536240600@www.cmaor.org
SUMMARY:The Real Estate Summit: Reclaiming California's Housing Future Viewing Party
DESCRIPTION:Center for California Real Estate – California Association of REALTORS
URL:https://www.cmaor.org/event/the-real-estate-summit-reclaiming-californias-housing-future-viewing-party/
LOCATION:CMAR Office\, 32670 Highway 20\, Unit 6\, Fort Bragg\, CA\, 95437\, United States
CATEGORIES:C.A.R.
END:VEVENT
BEGIN:VEVENT
DTSTART;TZID=America/Los_Angeles:20180911T083000
DTEND;TZID=America/Los_Angeles:20180911T100000
DTSTAMP:20260419T062406
CREATED:20170927T224508Z
LAST-MODIFIED:20170927T224508Z
UID:1836-1536654600-1536660000@www.cmaor.org
SUMMARY:Broker's Meeting
DESCRIPTION:
URL:https://www.cmaor.org/event/brokers-meeting-4/
LOCATION:CMAR Office\, 32670 Highway 20\, Unit 6\, Fort Bragg\, CA\, 95437\, United States
CATEGORIES:CMAR Committee Meeting
ORGANIZER;CN="CMAR":MAILTO:cmar@mcn.org
END:VEVENT
BEGIN:VEVENT
DTSTART;TZID=America/Los_Angeles:20180913T083000
DTEND;TZID=America/Los_Angeles:20180913T100000
DTSTAMP:20260419T062406
CREATED:20170927T224726Z
LAST-MODIFIED:20170927T224726Z
UID:1840-1536827400-1536832800@www.cmaor.org
SUMMARY:MLS Committee Meeting
DESCRIPTION:
URL:https://www.cmaor.org/event/mls-committee-meeting-17/
LOCATION:CMAR Office\, 32670 Highway 20\, Unit 6\, Fort Bragg\, CA\, 95437\, United States
CATEGORIES:CMAR Committee Meeting
ORGANIZER;CN="CMAR":MAILTO:cmar@mcn.org
END:VEVENT
BEGIN:VEVENT
DTSTART;VALUE=DATE:20180915
DTEND;VALUE=DATE:20180916
DTSTAMP:20260419T062406
CREATED:20170927T224823Z
LAST-MODIFIED:20170927T224823Z
UID:1842-1536969600-1537055999@www.cmaor.org
SUMMARY:California Coastal Cleanup Day
DESCRIPTION:
URL:https://www.cmaor.org/event/california-coastal-cleanup-day-2/
CATEGORIES:Community Service
END:VEVENT
BEGIN:VEVENT
DTSTART;TZID=America/Los_Angeles:20180920T083000
DTEND;TZID=America/Los_Angeles:20180920T100000
DTSTAMP:20260419T062406
CREATED:20170927T224635Z
LAST-MODIFIED:20170927T224635Z
UID:1838-1537432200-1537437600@www.cmaor.org
SUMMARY:Board of Director's Meeting
DESCRIPTION:
URL:https://www.cmaor.org/event/board-of-directors-meeting-13/
LOCATION:CMAR Office\, 32670 Highway 20\, Unit 6\, Fort Bragg\, CA\, 95437\, United States
CATEGORIES:CMAR Committee Meeting
ORGANIZER;CN="CMAR":MAILTO:cmar@mcn.org
END:VEVENT
BEGIN:VEVENT
DTSTART;VALUE=DATE:20180925
DTEND;VALUE=DATE:20180928
DTSTAMP:20260419T062406
CREATED:20180726T155414Z
LAST-MODIFIED:20180726T155414Z
UID:2302-1537833600-1538092799@www.cmaor.org
SUMMARY:C.A.R. Presidents Leadership Symposium
DESCRIPTION:
URL:https://www.cmaor.org/event/c-a-r-presidents-leadership-symposium/
LOCATION:Hyatt Regency Los Angeles International Airport\, 6225 West Century Boulevard\, Los Angeles\, CA\, 90045\, United States
CATEGORIES:C.A.R.,CMAR Office Closed
END:VEVENT
BEGIN:VEVENT
DTSTART;TZID=America/Los_Angeles:20180928T120000
DTEND;TZID=America/Los_Angeles:20180928T130000
DTSTAMP:20260419T062406
CREATED:20170927T212253Z
LAST-MODIFIED:20170927T212253Z
UID:1772-1538136000-1538139600@www.cmaor.org
SUMMARY:General Membership Meeting
DESCRIPTION:
URL:https://www.cmaor.org/event/general-membership-meeting-11/
CATEGORIES:General Membership
ORGANIZER;CN="CMAR":MAILTO:cmar@mcn.org
END:VEVENT
END:VCALENDAR