BEGIN:VCALENDAR
VERSION:2.0
PRODID:-//Coastal Mendocino Association of REALTORS® - ECPv6.15.13//NONSGML v1.0//EN
CALSCALE:GREGORIAN
METHOD:PUBLISH
X-ORIGINAL-URL:https://www.cmaor.org
X-WR-CALDESC:Events for Coastal Mendocino Association of REALTORS®
REFRESH-INTERVAL;VALUE=DURATION:PT1H
X-Robots-Tag:noindex
X-PUBLISHED-TTL:PT1H
BEGIN:VTIMEZONE
TZID:America/Los_Angeles
BEGIN:DAYLIGHT
TZOFFSETFROM:-0800
TZOFFSETTO:-0700
TZNAME:PDT
DTSTART:20170312T100000
END:DAYLIGHT
BEGIN:STANDARD
TZOFFSETFROM:-0700
TZOFFSETTO:-0800
TZNAME:PST
DTSTART:20171105T090000
END:STANDARD
BEGIN:DAYLIGHT
TZOFFSETFROM:-0800
TZOFFSETTO:-0700
TZNAME:PDT
DTSTART:20180311T100000
END:DAYLIGHT
BEGIN:STANDARD
TZOFFSETFROM:-0700
TZOFFSETTO:-0800
TZNAME:PST
DTSTART:20181104T090000
END:STANDARD
BEGIN:DAYLIGHT
TZOFFSETFROM:-0800
TZOFFSETTO:-0700
TZNAME:PDT
DTSTART:20190310T100000
END:DAYLIGHT
BEGIN:STANDARD
TZOFFSETFROM:-0700
TZOFFSETTO:-0800
TZNAME:PST
DTSTART:20191103T090000
END:STANDARD
END:VTIMEZONE
BEGIN:VEVENT
DTSTART;TZID=America/Los_Angeles:20181108T083000
DTEND;TZID=America/Los_Angeles:20181108T100000
DTSTAMP:20260421T070113
CREATED:20170927T214256Z
LAST-MODIFIED:20170927T214256Z
UID:1794-1541665800-1541671200@www.cmaor.org
SUMMARY:MLS Committee Meeting
DESCRIPTION:
URL:https://www.cmaor.org/event/mls-committee-meeting-15/
LOCATION:CMAR Office\, 32670 Highway 20\, Unit 6\, Fort Bragg\, CA\, 95437\, United States
CATEGORIES:CMAR Committee Meeting
ORGANIZER;CN="CMAR":MAILTO:cmar@mcn.org
END:VEVENT
BEGIN:VEVENT
DTSTART;TZID=America/Los_Angeles:20181109T173000
DTEND;TZID=America/Los_Angeles:20181109T210000
DTSTAMP:20260421T070113
CREATED:20171128T190057Z
LAST-MODIFIED:20171128T190128Z
UID:2008-1541784600-1541797200@www.cmaor.org
SUMMARY:CMAR Installation and Fundraiser
DESCRIPTION:
URL:https://www.cmaor.org/event/cmar-installation-and-fundraiser/
LOCATION:St. Anthony’s Catholic Church Parish Hall\, 10700 Lansing St\, Mendocino\, CA\, 95460
ORGANIZER;CN="CMAR":MAILTO:cmar@mcn.org
END:VEVENT
BEGIN:VEVENT
DTSTART;TZID=America/Los_Angeles:20181115T083000
DTEND;TZID=America/Los_Angeles:20181115T100000
DTSTAMP:20260421T070113
CREATED:20170927T225151Z
LAST-MODIFIED:20170927T225151Z
UID:1846-1542270600-1542276000@www.cmaor.org
SUMMARY:Board of Director's Meeting
DESCRIPTION:
URL:https://www.cmaor.org/event/board-of-directors-meeting-15/
LOCATION:CMAR Office\, 32670 Highway 20\, Unit 6\, Fort Bragg\, CA\, 95437\, United States
CATEGORIES:CMAR Committee Meeting
ORGANIZER;CN="CMAR":MAILTO:cmar@mcn.org
END:VEVENT
BEGIN:VEVENT
DTSTART;TZID=America/Los_Angeles:20181122T080000
DTEND;TZID=America/Los_Angeles:20181122T170000
DTSTAMP:20260421T070113
CREATED:20170927T230357Z
LAST-MODIFIED:20170927T230357Z
UID:1853-1542873600-1542906000@www.cmaor.org
SUMMARY:CMAR Office Closed
DESCRIPTION:Thanksgiving – National Holiday
URL:https://www.cmaor.org/event/cmar-office-closed-15/
CATEGORIES:CMAR Office Closed
END:VEVENT
BEGIN:VEVENT
DTSTART;VALUE=DATE:20181123
DTEND;VALUE=DATE:20181124
DTSTAMP:20260421T070113
CREATED:20170927T230448Z
LAST-MODIFIED:20170927T230448Z
UID:1855-1542931200-1543017599@www.cmaor.org
SUMMARY:CMAR Office Closed
DESCRIPTION:Day after Thanksgiving – CMAR Holiday
URL:https://www.cmaor.org/event/cmar-office-closed-16/
CATEGORIES:CMAR Office Closed
END:VEVENT
END:VCALENDAR