BEGIN:VCALENDAR
VERSION:2.0
PRODID:-//Coastal Mendocino Association of REALTORS® - ECPv6.15.13//NONSGML v1.0//EN
CALSCALE:GREGORIAN
METHOD:PUBLISH
X-WR-CALNAME:Coastal Mendocino Association of REALTORS®
X-ORIGINAL-URL:https://www.cmaor.org
X-WR-CALDESC:Events for Coastal Mendocino Association of REALTORS®
REFRESH-INTERVAL;VALUE=DURATION:PT1H
X-Robots-Tag:noindex
X-PUBLISHED-TTL:PT1H
BEGIN:VTIMEZONE
TZID:America/Los_Angeles
BEGIN:DAYLIGHT
TZOFFSETFROM:-0800
TZOFFSETTO:-0700
TZNAME:PDT
DTSTART:20180311T100000
END:DAYLIGHT
BEGIN:STANDARD
TZOFFSETFROM:-0700
TZOFFSETTO:-0800
TZNAME:PST
DTSTART:20181104T090000
END:STANDARD
BEGIN:DAYLIGHT
TZOFFSETFROM:-0800
TZOFFSETTO:-0700
TZNAME:PDT
DTSTART:20190310T100000
END:DAYLIGHT
BEGIN:STANDARD
TZOFFSETFROM:-0700
TZOFFSETTO:-0800
TZNAME:PST
DTSTART:20191103T090000
END:STANDARD
BEGIN:DAYLIGHT
TZOFFSETFROM:-0800
TZOFFSETTO:-0700
TZNAME:PDT
DTSTART:20200308T100000
END:DAYLIGHT
BEGIN:STANDARD
TZOFFSETFROM:-0700
TZOFFSETTO:-0800
TZNAME:PST
DTSTART:20201101T090000
END:STANDARD
END:VTIMEZONE
BEGIN:VEVENT
DTSTART;TZID=America/Los_Angeles:20190411T083000
DTEND;TZID=America/Los_Angeles:20190411T100000
DTSTAMP:20260420T191153
CREATED:20181226T231431Z
LAST-MODIFIED:20181226T231431Z
UID:2463-1554971400-1554976800@www.cmaor.org
SUMMARY:MLS Committee Meeting
DESCRIPTION:
URL:https://www.cmaor.org/event/mls-committee-meeting-21/
LOCATION:CMAR Office\, 32670 Highway 20\, Unit 6\, Fort Bragg\, CA\, 95437\, United States
CATEGORIES:CMAR Committee Meeting
ORGANIZER;CN="CMAR":MAILTO:cmar@mcn.org
END:VEVENT
BEGIN:VEVENT
DTSTART;TZID=America/Los_Angeles:20190418T083000
DTEND;TZID=America/Los_Angeles:20190418T100000
DTSTAMP:20260420T191153
CREATED:20181226T231544Z
LAST-MODIFIED:20181226T231544Z
UID:2465-1555576200-1555581600@www.cmaor.org
SUMMARY:Board of Director's Meeting
DESCRIPTION:
URL:https://www.cmaor.org/event/board-of-directors-meeting-21/
LOCATION:CMAR Office\, 32670 Highway 20\, Unit 6\, Fort Bragg\, CA\, 95437\, United States
CATEGORIES:CMAR Committee Meeting
ORGANIZER;CN="CMAR":MAILTO:cmar@mcn.org
END:VEVENT
BEGIN:VEVENT
DTSTART;TZID=America/Los_Angeles:20190426T120000
DTEND;TZID=America/Los_Angeles:20190426T130000
DTSTAMP:20260420T191153
CREATED:20181226T231716Z
LAST-MODIFIED:20181226T231716Z
UID:2467-1556280000-1556283600@www.cmaor.org
SUMMARY:General Membership Meeting
DESCRIPTION:Business Affiliate Appreciation
URL:https://www.cmaor.org/event/general-membership-meeting-16/
CATEGORIES:General Membership
ORGANIZER;CN="CMAR":MAILTO:cmar@mcn.org
END:VEVENT
BEGIN:VEVENT
DTSTART;VALUE=DATE:20190430
DTEND;VALUE=DATE:20190505
DTSTAMP:20260420T191153
CREATED:20181226T231927Z
LAST-MODIFIED:20181226T231927Z
UID:2469-1556582400-1557014399@www.cmaor.org
SUMMARY:C.A.R. Spring Business Meeting
DESCRIPTION:
URL:https://www.cmaor.org/event/c-a-r-spring-business-meeting-2/
LOCATION:SAFE Credit Union Convention Center\, 1400 J Street\, Sacramento\, CA\, 95814
END:VEVENT
BEGIN:VEVENT
DTSTART;VALUE=DATE:20190430
DTEND;VALUE=DATE:20190507
DTSTAMP:20260420T191153
CREATED:20181226T232146Z
LAST-MODIFIED:20181226T232237Z
UID:2473-1556582400-1557187199@www.cmaor.org
SUMMARY:CMAR OFFICE CLOSED
DESCRIPTION:
URL:https://www.cmaor.org/event/cmar-office-closed-24/
CATEGORIES:CMAR Office Closed
END:VEVENT
END:VCALENDAR