BEGIN:VCALENDAR
VERSION:2.0
PRODID:-//Coastal Mendocino Association of REALTORS® - ECPv6.15.13//NONSGML v1.0//EN
CALSCALE:GREGORIAN
METHOD:PUBLISH
X-ORIGINAL-URL:https://www.cmaor.org
X-WR-CALDESC:Events for Coastal Mendocino Association of REALTORS®
REFRESH-INTERVAL;VALUE=DURATION:PT1H
X-Robots-Tag:noindex
X-PUBLISHED-TTL:PT1H
BEGIN:VTIMEZONE
TZID:America/Los_Angeles
BEGIN:DAYLIGHT
TZOFFSETFROM:-0800
TZOFFSETTO:-0700
TZNAME:PDT
DTSTART:20190310T100000
END:DAYLIGHT
BEGIN:STANDARD
TZOFFSETFROM:-0700
TZOFFSETTO:-0800
TZNAME:PST
DTSTART:20191103T090000
END:STANDARD
BEGIN:DAYLIGHT
TZOFFSETFROM:-0800
TZOFFSETTO:-0700
TZNAME:PDT
DTSTART:20200308T100000
END:DAYLIGHT
BEGIN:STANDARD
TZOFFSETFROM:-0700
TZOFFSETTO:-0800
TZNAME:PST
DTSTART:20201101T090000
END:STANDARD
BEGIN:DAYLIGHT
TZOFFSETFROM:-0800
TZOFFSETTO:-0700
TZNAME:PDT
DTSTART:20210314T100000
END:DAYLIGHT
BEGIN:STANDARD
TZOFFSETFROM:-0700
TZOFFSETTO:-0800
TZNAME:PST
DTSTART:20211107T090000
END:STANDARD
END:VTIMEZONE
BEGIN:VEVENT
DTSTART;TZID=America/Los_Angeles:20200609T083000
DTEND;TZID=America/Los_Angeles:20200609T100000
DTSTAMP:20260423T202158
CREATED:20191128T004723Z
LAST-MODIFIED:20191128T004723Z
UID:2844-1591691400-1591696800@www.cmaor.org
SUMMARY:Broker's Meeting
DESCRIPTION:
URL:https://www.cmaor.org/event/brokers-meeting-10/
LOCATION:CMAR Office\, 32670 Highway 20\, Unit 6\, Fort Bragg\, CA\, 95437\, United States
CATEGORIES:CMAR Committee Meeting
ORGANIZER;CN="CMAR":MAILTO:cmar@mcn.org
END:VEVENT
BEGIN:VEVENT
DTSTART;TZID=America/Los_Angeles:20200611T083000
DTEND;TZID=America/Los_Angeles:20200611T100000
DTSTAMP:20260423T202158
CREATED:20191128T004827Z
LAST-MODIFIED:20191128T004827Z
UID:2846-1591864200-1591869600@www.cmaor.org
SUMMARY:MLS Committee Meeting
DESCRIPTION:
URL:https://www.cmaor.org/event/mls-committee-meeting-35/
LOCATION:CMAR Office\, 32670 Highway 20\, Unit 6\, Fort Bragg\, CA\, 95437\, United States
CATEGORIES:CMAR Committee Meeting
ORGANIZER;CN="CMAR":MAILTO:cmar@mcn.org
END:VEVENT
BEGIN:VEVENT
DTSTART;VALUE=DATE:20200616
DTEND;VALUE=DATE:20200620
DTSTAMP:20260423T202158
CREATED:20191128T004930Z
LAST-MODIFIED:20191128T005333Z
UID:2848-1592265600-1592611199@www.cmaor.org
SUMMARY:CMAR OFFICE CLOSED
DESCRIPTION:AE/GAD Institute – Huntington Beach
URL:https://www.cmaor.org/event/cmar-office-closed-39/
CATEGORIES:CMAR Office Closed
END:VEVENT
BEGIN:VEVENT
DTSTART;TZID=America/Los_Angeles:20200625T083000
DTEND;TZID=America/Los_Angeles:20200625T100000
DTSTAMP:20260423T202158
CREATED:20191128T005029Z
LAST-MODIFIED:20191128T005029Z
UID:2850-1593073800-1593079200@www.cmaor.org
SUMMARY:Board of Director's Meeting
DESCRIPTION:
URL:https://www.cmaor.org/event/board-of-directors-meeting-34/
LOCATION:CMAR Office\, 32670 Highway 20\, Unit 6\, Fort Bragg\, CA\, 95437\, United States
CATEGORIES:CMAR Committee Meeting
ORGANIZER;CN="CMAR":MAILTO:cmar@mcn.org
END:VEVENT
BEGIN:VEVENT
DTSTART;TZID=America/Los_Angeles:20200626T120000
DTEND;TZID=America/Los_Angeles:20200626T130000
DTSTAMP:20260423T202158
CREATED:20191128T005142Z
LAST-MODIFIED:20191128T005142Z
UID:2852-1593172800-1593176400@www.cmaor.org
SUMMARY:General Membership Meeting
DESCRIPTION:
URL:https://www.cmaor.org/event/general-membership-meeting-25/
CATEGORIES:General Membership
END:VEVENT
END:VCALENDAR